BEGIN:VCALENDAR
VERSION:2.0
PRODID:-//Patrimonio - Universidad de Granada - ECPv5.10.0//NONSGML v1.0//EN
CALSCALE:GREGORIAN
METHOD:PUBLISH
X-WR-CALNAME:Patrimonio - Universidad de Granada
X-ORIGINAL-URL:https://patrimonio.ugr.es
X-WR-CALDESC:Eventos para Patrimonio - Universidad de Granada
BEGIN:VTIMEZONE
TZID:Europe/Madrid
BEGIN:DAYLIGHT
TZOFFSETFROM:+0100
TZOFFSETTO:+0200
TZNAME:CEST
DTSTART:20230326T010000
END:DAYLIGHT
BEGIN:STANDARD
TZOFFSETFROM:+0200
TZOFFSETTO:+0100
TZNAME:CET
DTSTART:20231029T010000
END:STANDARD
END:VTIMEZONE
BEGIN:VEVENT
DTSTART;TZID=Europe/Madrid:20231002T180000
DTEND;TZID=Europe/Madrid:20231018T180000
DTSTAMP:20260421T142705
CREATED:20230915T091029Z
LAST-MODIFIED:20230915T091029Z
UID:7507-1696269600-1697652000@patrimonio.ugr.es
SUMMARY:Ciclo de visitas guiadas «El edificio del mes»
DESCRIPTION:Aforo limitado. Imprescindible inscripción previa mediante el siguiente FORMULARIO DE INSCRIPCIÓN \nEl Área de Patrimonio de la Universidad de Granada organiza el ciclo “El edificio del mes”\, con dos visitas guiadas mensuales para público general que buscan un doble objetivo: dar a conocer la riqueza patrimonial de la institución a través de sus inmuebles y las colecciones que en estos se conservan\, analizando a su vez la evolución de la arquitectura a través del recorrido por inmuebles de diferentes épocas. \n“El edificio del mes” concederá protagonismo a un edificio o conjunto de estos y abrirá las puertas de la Universidad a la ciudadanía. \nEn esta ocasión el ciclo se inaugura el día 2 de octubre de 2023\, Día Mundial de la Arquitectura\, instaurado en 1985 por la Unión Internacional de Arquitectos (UIA). Este día se celebra el primer lunes de octubre en paralelo al Día Mundial del Hábitat\, organizado por la Organización de las Naciones Unidas. Para el año 2023 el Consejo de la UIA ha elegido el tema «Arquitectura para comunidades resilientes«\, buscando destacar la capacidad y responsabilidad de la arquitectura en la generación de comunidades vitales\, además de iniciar un debate internacional sobre las relaciones que se establecen entre las zonas rurales y urbanas en las distintas parte del mundo. \n#EdificioMesUGR
URL:https://patrimonio.ugr.es/actividad/edificio-del-mes-10/
LOCATION:Facultad de Derecho
ATTACH;FMTTYPE=image/png:https://patrimonio.ugr.es/wp-content/uploads/2023/09/facultad-de-derecho-banner-web.png
END:VEVENT
END:VCALENDAR