BEGIN:VCALENDAR
VERSION:2.0
PRODID:-//Patrimonio - Universidad de Granada - ECPv5.10.0//NONSGML v1.0//EN
CALSCALE:GREGORIAN
METHOD:PUBLISH
X-WR-CALNAME:Patrimonio - Universidad de Granada
X-ORIGINAL-URL:https://patrimonio.ugr.es
X-WR-CALDESC:Eventos para Patrimonio - Universidad de Granada
BEGIN:VTIMEZONE
TZID:Europe/Madrid
BEGIN:DAYLIGHT
TZOFFSETFROM:+0100
TZOFFSETTO:+0200
TZNAME:CEST
DTSTART:20230326T010000
END:DAYLIGHT
BEGIN:STANDARD
TZOFFSETFROM:+0200
TZOFFSETTO:+0100
TZNAME:CET
DTSTART:20231029T010000
END:STANDARD
END:VTIMEZONE
BEGIN:VEVENT
DTSTART;TZID=Europe/Madrid:20231108T170000
DTEND;TZID=Europe/Madrid:20231122T170000
DTSTAMP:20260420T174822
CREATED:20231010T121526Z
LAST-MODIFIED:20231010T121625Z
UID:7789-1699462800-1700672400@patrimonio.ugr.es
SUMMARY:Ciclo de visitas guiadas «El edificio del mes»
DESCRIPTION:Aforo limitado. Imprescindible inscripción previa mediante el siguiente FORMULARIO DE INSCRIPCIÓN \nEl Área de Patrimonio de la Universidad de Granada organiza el ciclo “El edificio del mes”\, con dos visitas guiadas mensuales para público general que buscan un doble objetivo: dar a conocer la riqueza patrimonial de la institución a través de sus inmuebles y las colecciones que en estos se conservan\, analizando a su vez la evolución de la arquitectura a través del recorrido por inmuebles de diferentes épocas. \n“El edificio del mes” concederá protagonismo a un edificio o conjunto de estos y abrirá las puertas de la Universidad a la ciudadanía. \n#EdificioMesUGR
URL:https://patrimonio.ugr.es/actividad/edificio-del-mes-11/
ATTACH;FMTTYPE=image/png:https://patrimonio.ugr.es/wp-content/uploads/2023/10/facultad-de-traduccion-04.png
END:VEVENT
END:VCALENDAR