BEGIN:VCALENDAR
VERSION:2.0
PRODID:-//Patrimonio - Universidad de Granada - ECPv5.10.0//NONSGML v1.0//EN
CALSCALE:GREGORIAN
METHOD:PUBLISH
X-WR-CALNAME:Patrimonio - Universidad de Granada
X-ORIGINAL-URL:https://patrimonio.ugr.es
X-WR-CALDESC:Eventos para Patrimonio - Universidad de Granada
BEGIN:VTIMEZONE
TZID:Europe/Madrid
BEGIN:DAYLIGHT
TZOFFSETFROM:+0100
TZOFFSETTO:+0200
TZNAME:CEST
DTSTART:20240331T010000
END:DAYLIGHT
BEGIN:STANDARD
TZOFFSETFROM:+0200
TZOFFSETTO:+0100
TZNAME:CET
DTSTART:20241027T010000
END:STANDARD
END:VTIMEZONE
BEGIN:VEVENT
DTSTART;TZID=Europe/Madrid:20240306T170000
DTEND;TZID=Europe/Madrid:20240320T170000
DTSTAMP:20260420T061149
CREATED:20240212T100040Z
LAST-MODIFIED:20240212T100040Z
UID:8533-1709744400-1710954000@patrimonio.ugr.es
SUMMARY:CICLO DE VISITAS GUIADAS «EL EDIFICIO DEL MES»
DESCRIPTION:Fechas: Miércoles 6 y 20 de marzo de 2024\nHora: 17.00 h\nAFORO LIMITADO\nImprescindible inscripción previa mediante el siguiente FORMULARIO DE INSCRIPCIÓN  \n\nEl Área de Patrimonio de la Universidad de Granada organiza el ciclo «El edificio del mes»\, con dos visitas guiadas mensuales para público general\, que buscan alcanzar un doble objetivo: dar a conocer la riqueza patrimonial de la institución a través de sus inmuebles y las colecciones que en estos se conservan\, analizando a su vez la evolución de la arquitectura a través del recorrido comentado por destacados espacios universitarios. \n«El edificio del mes» concederá mensualmente el protagonismo a un edificio\, o conjunto de estos\, abriendo las puertas de la Universidad a la ciudadanía. \n#EdificioMesUGR
URL:https://patrimonio.ugr.es/actividad/edificio-mes-15/
LOCATION:Facultad de Medicina
ATTACH;FMTTYPE=image/png:https://patrimonio.ugr.es/wp-content/uploads/2024/02/Arquitectura-contemporanea-en-el-PTS-04.png
END:VEVENT
END:VCALENDAR